BEGIN:VCALENDAR
VERSION:2.0
PRODID:-//Paddle News - ECPv6.15.20//NONSGML v1.0//EN
CALSCALE:GREGORIAN
METHOD:PUBLISH
X-WR-CALNAME:Paddle News
X-ORIGINAL-URL:https://paddlenews.com.br
X-WR-CALDESC:Eventos para Paddle News
REFRESH-INTERVAL;VALUE=DURATION:PT1H
X-Robots-Tag:noindex
X-PUBLISHED-TTL:PT1H
BEGIN:VTIMEZONE
TZID:America/Sao_Paulo
BEGIN:STANDARD
TZOFFSETFROM:-0300
TZOFFSETTO:-0300
TZNAME:-03
DTSTART:20230101T000000
END:STANDARD
END:VTIMEZONE
BEGIN:VEVENT
DTSTART;TZID=America/Sao_Paulo:20240128T080000
DTEND;TZID=America/Sao_Paulo:20240128T170000
DTSTAMP:20260423T142422
CREATED:20240104T122338Z
LAST-MODIFIED:20240104T122338Z
UID:11884-1706428800-1706461200@paddlenews.com.br
SUMMARY:6º Festival Brasileiro de Remada
DESCRIPTION:Modalidades: SUP Race\, Va’a\, Paddleboard\, Remada de Longboard e Canoagem Oceânica. \nMais informações em @rodrigo.dedeuspersonal.
URL:https://paddlenews.com.br/calendariosdeeventos/6o-festival-brasileiro-de-remada/
END:VEVENT
BEGIN:VEVENT
DTSTART;TZID=America/Sao_Paulo:20240127T080000
DTEND;TZID=America/Sao_Paulo:20240128T170000
DTSTAMP:20260423T142422
CREATED:20240104T122023Z
LAST-MODIFIED:20240104T122128Z
UID:11880-1706342400-1706461200@paddlenews.com.br
SUMMARY:Volta à Ilha da Gipóia 2024
DESCRIPTION:Volta à Ilha da Gipóia: competição de 25 km de remada no entorno da Ilha da Gipóia\, Angra dos reis (RJ). Modalidades V1\, V3 e surfski. \nCompetição será válida como primeira etapa da Copa Brasil de Surfski\, valendo classificação no ranking que garante vaga para o mundial de 2025. \n27 de janeiro serão as individuais: V1 e surfski. \n28 de janeiro serão as coletivas: V3 e surfski duplo. \nMais informações\, clique aqui!!
URL:https://paddlenews.com.br/calendariosdeeventos/11880/
END:VEVENT
BEGIN:VEVENT
DTSTART;TZID=America/Sao_Paulo:20240127T080000
DTEND;TZID=America/Sao_Paulo:20240128T170000
DTSTAMP:20260423T142422
CREATED:20240104T121748Z
LAST-MODIFIED:20240105T134700Z
UID:11877-1706342400-1706461200@paddlenews.com.br
SUMMARY:I Etapa do Campeonato Sergipano de Va'a e Stand up Paddle
DESCRIPTION:  \n \nPrimeira etapa do Circuito Sergipano de Va’a e Stand up paddle. \nClique aqui para mais informações! \nPara Fazer sua inscrição\, clique aqui!!
URL:https://paddlenews.com.br/calendariosdeeventos/i-etapa-do-campeonato-sergipano-de-vaa-e-stand-up-paddle/
END:VEVENT
BEGIN:VEVENT
DTSTART;TZID=America/Sao_Paulo:20240120T080000
DTEND;TZID=America/Sao_Paulo:20240120T170000
DTSTAMP:20260423T142422
CREATED:20240104T121231Z
LAST-MODIFIED:20240104T121231Z
UID:11875-1705737600-1705770000@paddlenews.com.br
SUMMARY:III Copa Eva'a
DESCRIPTION:Clique no link abaixo para ver mais informações sobre o evento. \nClique aqui para mais informações!!
URL:https://paddlenews.com.br/calendariosdeeventos/iii-copa-evaa/
END:VEVENT
END:VCALENDAR