BEGIN:VCALENDAR
VERSION:2.0
PRODID:-//Paddle News - ECPv6.15.20//NONSGML v1.0//EN
CALSCALE:GREGORIAN
METHOD:PUBLISH
X-WR-CALNAME:Paddle News
X-ORIGINAL-URL:https://paddlenews.com.br
X-WR-CALDESC:Eventos para Paddle News
REFRESH-INTERVAL;VALUE=DURATION:PT1H
X-Robots-Tag:noindex
X-PUBLISHED-TTL:PT1H
BEGIN:VTIMEZONE
TZID:America/Sao_Paulo
BEGIN:STANDARD
TZOFFSETFROM:-0300
TZOFFSETTO:-0300
TZNAME:-03
DTSTART:20230101T000000
END:STANDARD
END:VTIMEZONE
BEGIN:VEVENT
DTSTART;TZID=America/Sao_Paulo:20241207T080000
DTEND;TZID=America/Sao_Paulo:20241208T170000
DTSTAMP:20260423T114656
CREATED:20240104T132715Z
LAST-MODIFIED:20240104T132715Z
UID:11923-1733558400-1733677200@paddlenews.com.br
SUMMARY:Rio Va'a 2024
DESCRIPTION:Tradicional evento de canoa havaiana e surfski. \nLocal: Praia do Flamengo\, Rio de Janeiro. \nPara mais informações\, clique aqui!
URL:https://paddlenews.com.br/calendariosdeeventos/rio-vaa-2024/
END:VEVENT
BEGIN:VEVENT
DTSTART;TZID=America/Sao_Paulo:20241120T080000
DTEND;TZID=America/Sao_Paulo:20241124T170000
DTSTAMP:20260423T114656
CREATED:20240104T132430Z
LAST-MODIFIED:20240104T132430Z
UID:11921-1732089600-1732467600@paddlenews.com.br
SUMMARY:ICF World SUP 2024
DESCRIPTION:Mundial de Stand up Paddle da ICF 2024. \nLocal: Sarasota\, Flórida\, EUA. \nModalidades: SUP Race Técnico\, Sprint e Longa Distância. \nMais informações\, clique aqui!
URL:https://paddlenews.com.br/calendariosdeeventos/icf-world-sup-2024/
END:VEVENT
BEGIN:VEVENT
DTSTART;TZID=America/Sao_Paulo:20241026T080000
DTEND;TZID=America/Sao_Paulo:20241026T170000
DTSTAMP:20260423T114656
CREATED:20240104T131824Z
LAST-MODIFIED:20240104T131824Z
UID:11919-1729929600-1729962000@paddlenews.com.br
SUMMARY:5ª Etapa do circuito baiano de Va'a
DESCRIPTION:5ª Etapa do circuito baiano de Va’a\, local à definir. \n\n\n  \n\n\n\n\n\n\n\n\n\n\nVer essa foto no Instagram\n\n\n\n\n\n\n\n\n\n\n\n\n\n\n\n\n\n\n\n\n\n\n  \nUma publicação compartilhada por FEVAABA (@fevaaba)
URL:https://paddlenews.com.br/calendariosdeeventos/5a-etapa-do-circuito-baiano-de-vaa/
END:VEVENT
BEGIN:VEVENT
DTSTART;TZID=America/Sao_Paulo:20240928T080000
DTEND;TZID=America/Sao_Paulo:20240928T170000
DTSTAMP:20260423T114656
CREATED:20240104T131531Z
LAST-MODIFIED:20240104T131531Z
UID:11917-1727510400-1727542800@paddlenews.com.br
SUMMARY:4ª Etapa do circuito baiano de Va'a
DESCRIPTION:4ª Etapa do circuito baiano de Va’a\, local à definir. \n  \n\n   \n\n\n\n\n\n\n\n\n\n\nVer essa foto no Instagram\n\n\n\n\n\n\n\n\n\n\n\n\n\n\n\n\n\n\n\n\n\n\n \nUma publicação compartilhada por FEVAABA (@fevaaba)
URL:https://paddlenews.com.br/calendariosdeeventos/4a-etapa-do-circuito-baiano-de-vaa/
END:VEVENT
BEGIN:VEVENT
DTSTART;TZID=America/Sao_Paulo:20240921T080000
DTEND;TZID=America/Sao_Paulo:20240921T170000
DTSTAMP:20260423T114656
CREATED:20240111T170234Z
LAST-MODIFIED:20240111T170234Z
UID:11980-1726905600-1726938000@paddlenews.com.br
SUMMARY:CBSUP - Amazonas SUP
DESCRIPTION:Quarta etapa do Circuito Brasileiro de Stand up Paddle da Confederação Brasileira de Stand up Paddle. \nLocal: São Paulo \nMais informações acesse: www.cbsup.com.br
URL:https://paddlenews.com.br/calendariosdeeventos/cbsup-amazonas-sup/
END:VEVENT
BEGIN:VEVENT
DTSTART;TZID=America/Sao_Paulo:20240916T080000
DTEND;TZID=America/Sao_Paulo:20240924T170000
DTSTAMP:20260423T114656
CREATED:20240104T131310Z
LAST-MODIFIED:20240104T131328Z
UID:11915-1726473600-1727197200@paddlenews.com.br
SUMMARY:ISA World SUP and Paddleboard 2024
DESCRIPTION:O mundial da ISA de stand up paddle e paddleboard\, será realizado na Dinamarca neste ano de 2024. \nMais informações\, clique aqui!!
URL:https://paddlenews.com.br/calendariosdeeventos/isa-world-sup-and-paddleboard-2024/
END:VEVENT
BEGIN:VEVENT
DTSTART;TZID=America/Sao_Paulo:20240907T080000
DTEND;TZID=America/Sao_Paulo:20240908T170000
DTSTAMP:20260423T114656
CREATED:20240111T170136Z
LAST-MODIFIED:20240111T170136Z
UID:11978-1725696000-1725814800@paddlenews.com.br
SUMMARY:CBSUP - Etapa Dwnwind
DESCRIPTION:Terceira etapa do Circuito Brasileiro de Stand up Paddle da Confederação Brasileira de Stand up Paddle. \nLocal: Ceará \nMais informações acesse: www.cbsup.com.br
URL:https://paddlenews.com.br/calendariosdeeventos/cbsup-etapa-dwnwind/
END:VEVENT
BEGIN:VEVENT
DTSTART;TZID=America/Sao_Paulo:20240830T080000
DTEND;TZID=America/Sao_Paulo:20240901T170000
DTSTAMP:20260423T114656
CREATED:20240104T130814Z
LAST-MODIFIED:20240104T130814Z
UID:11912-1725004800-1725210000@paddlenews.com.br
SUMMARY:Molokabra 2024
DESCRIPTION:Maior evento de Downwind do Brasil\, nas modalidades\, Va’a\, SUP\, Sup Foil\, surfski\, paddleboard e kite. \nPara garantir sua inscrição\, clique aqui!! \n  \n\n\n  \n\n\n\n\n\n\n\n\n\n\nVer essa foto no Instagram\n\n\n\n\n\n\n\n\n\n\n\n\n\n\n\n\n\n\n\n\n\n\n  \nUma publicação compartilhada por MolokaBRA Downwind (@molokabra)
URL:https://paddlenews.com.br/calendariosdeeventos/molokabra-2024/
END:VEVENT
BEGIN:VEVENT
DTSTART;TZID=America/Sao_Paulo:20240813T080000
DTEND;TZID=America/Sao_Paulo:20240824T170000
DTSTAMP:20260423T114656
CREATED:20240104T130115Z
LAST-MODIFIED:20240104T130115Z
UID:11909-1723536000-1724518800@paddlenews.com.br
SUMMARY:IVF World Sprints Va'a
DESCRIPTION:Campeonato Mundial de Va’a –  Modalidade Sprint\, chancelado pela Federação Internacional de Va’a – IVF. \nLocal: Baía de Hilo\, Big Island\, Havaí.
URL:https://paddlenews.com.br/calendariosdeeventos/ivf-world-sprints-vaa/
END:VEVENT
BEGIN:VEVENT
DTSTART;TZID=America/Sao_Paulo:20240720T080000
DTEND;TZID=America/Sao_Paulo:20240720T170000
DTSTAMP:20260423T114656
CREATED:20240104T125707Z
LAST-MODIFIED:20240104T125834Z
UID:11907-1721462400-1721494800@paddlenews.com.br
SUMMARY:3ª Etapa do Circuito Baiano de Va'a - Etapa Salinas
DESCRIPTION:3ª Etapa do Circuito Baiano de Va’a – Etapa Salinas \n  \n\n\n  \n\n\n\n\n\n\n\n\n\n\nVer essa foto no Instagram\n\n\n\n\n\n\n\n\n\n\n\n\n\n\n\n\n\n\n\n\n\n\n  \nUma publicação compartilhada por FEVAABA (@fevaaba)
URL:https://paddlenews.com.br/calendariosdeeventos/3a-etapa-do-circuito-baiano-de-vaa-etapa-salinas/
END:VEVENT
BEGIN:VEVENT
DTSTART;TZID=America/Sao_Paulo:20240511T080000
DTEND;TZID=America/Sao_Paulo:20240511T170000
DTSTAMP:20260423T114656
CREATED:20240104T125418Z
LAST-MODIFIED:20240104T125553Z
UID:11902-1715414400-1715446800@paddlenews.com.br
SUMMARY:2ª Etapa do Circuito Baiano de Va'a
DESCRIPTION:2ª Etapa do Circuito Baiano de Va’a\, Local à definir. \n  \n\n\n  \n\n\n\n\n\n\n\n\n\n\nVer essa foto no Instagram\n\n\n\n\n\n\n\n\n\n\n\n\n\n\n\n\n\n\n\n\n\n\n  \nUma publicação compartilhada por FEVAABA (@fevaaba)
URL:https://paddlenews.com.br/calendariosdeeventos/2a-etapa-do-circuito-baiano-de-vaa-etapa-salinas/
END:VEVENT
BEGIN:VEVENT
DTSTART;TZID=America/Sao_Paulo:20240412T080000
DTEND;TZID=America/Sao_Paulo:20240414T170000
DTSTAMP:20260423T114656
CREATED:20240111T170032Z
LAST-MODIFIED:20240111T170032Z
UID:11976-1712908800-1713114000@paddlenews.com.br
SUMMARY:CBSUP - SP SUP Festival
DESCRIPTION:Segunda etapa do Circuito Brasileiro de Stand up Paddle da Confederação Brasileira de Stand up Paddle. \nLocal: São Paulo \nMais informações acesse: www.cbsup.com.br
URL:https://paddlenews.com.br/calendariosdeeventos/cbsup-sp-sup-festival/
END:VEVENT
BEGIN:VEVENT
DTSTART;TZID=America/Sao_Paulo:20240412T080000
DTEND;TZID=America/Sao_Paulo:20240413T170000
DTSTAMP:20260423T114656
CREATED:20240104T124943Z
LAST-MODIFIED:20240104T125118Z
UID:11900-1712908800-1713027600@paddlenews.com.br
SUMMARY:Aloha Spirit Brasileiro de Stand up Paddle
DESCRIPTION:Primeira etapa do Circuito Brasileiro de Stand up Paddle da CBSURF ( Confederação Brasileira de surf). Etapa válida como seletiva para o mundial da ISA. \nPara mais informações\, clique aqui!
URL:https://paddlenews.com.br/calendariosdeeventos/aloha-spirit-brasileiro-de-stand-up-paddle/
END:VEVENT
BEGIN:VEVENT
DTSTART;TZID=America/Sao_Paulo:20240406T080000
DTEND;TZID=America/Sao_Paulo:20240406T170000
DTSTAMP:20260423T114656
CREATED:20240104T124630Z
LAST-MODIFIED:20240104T124630Z
UID:11897-1712390400-1712422800@paddlenews.com.br
SUMMARY:I Etapa do Circuito Baiano de Va'a
DESCRIPTION:Primeira etapa do circuito baiano de canoa havaiana que será realizado em Simões Filho\, em breve traremos mais informações. \n  \n\n\n  \n\n\n\n\n\n\n\n\n\n\nVer essa foto no Instagram\n\n\n\n\n\n\n\n\n\n\n\n\n\n\n\n\n\n\n\n\n\n\n  \nUma publicação compartilhada por FEVAABA (@fevaaba)
URL:https://paddlenews.com.br/calendariosdeeventos/i-etapa-do-circuito-baiano-de-vaa/
END:VEVENT
BEGIN:VEVENT
DTSTART;TZID=America/Sao_Paulo:20240330T080000
DTEND;TZID=America/Sao_Paulo:20240331T170000
DTSTAMP:20260423T114656
CREATED:20240111T165923Z
LAST-MODIFIED:20240111T165923Z
UID:11974-1711785600-1711904400@paddlenews.com.br
SUMMARY:CBSUP - Bahia SUP Festival
DESCRIPTION:Primeira etapa do Circuito Brasileiro de Stand up Paddle da Confederação Brasileira de Stand up Paddle. \nLocal: Bahia \nMais informações acesse: www.cbsup.com.br
URL:https://paddlenews.com.br/calendariosdeeventos/cbsup-bahia-sup-festival/
END:VEVENT
BEGIN:VEVENT
DTSTART;TZID=America/Sao_Paulo:20240322T080000
DTEND;TZID=America/Sao_Paulo:20240324T170000
DTSTAMP:20260423T114656
CREATED:20240104T124202Z
LAST-MODIFIED:20240104T124202Z
UID:11895-1711094400-1711299600@paddlenews.com.br
SUMMARY:Aloha Spirit - Ilhabela
DESCRIPTION:Tradicional competição nas modalidades\, canoa havaiana\, surfski\, stand up paddle\, paddleboard e natação em águas abertas. \nPara mais informações\, clique aqui!
URL:https://paddlenews.com.br/calendariosdeeventos/aloha-spirit-ilhabela/
END:VEVENT
BEGIN:VEVENT
DTSTART;TZID=America/Sao_Paulo:20240224T080000
DTEND;TZID=America/Sao_Paulo:20240224T170000
DTSTAMP:20260423T114656
CREATED:20240104T123835Z
LAST-MODIFIED:20240104T123951Z
UID:11892-1708761600-1708794000@paddlenews.com.br
SUMMARY:Desafio das Ilhas 2024
DESCRIPTION:Competição de canoas OC6 e V6 em revezamento de 9 remadores. Percursos de 49 e 86km entre as ilhas do Rio de Janeiro e Niterói. \n  \n\n\n  \n\n\n\n\n\n\n\n\n\n\nVer essa foto no Instagram\n\n\n\n\n\n\n\n\n\n\n\n\n\n\n\n\n\n\n\n\n\n\n  \nUma publicação compartilhada por Desafio das Ilhas (@desafiodasilhas)
URL:https://paddlenews.com.br/calendariosdeeventos/desafio-das-ilhas-2024/
END:VEVENT
BEGIN:VEVENT
DTSTART;TZID=America/Sao_Paulo:20240224T080000
DTEND;TZID=America/Sao_Paulo:20240224T170000
DTSTAMP:20260423T114656
CREATED:20240104T123058Z
LAST-MODIFIED:20240104T123058Z
UID:11890-1708761600-1708794000@paddlenews.com.br
SUMMARY:Desafio do Leme ao Pontal
DESCRIPTION:Prova de longa distância nas modalidades v1 e oc1\, 30 km remando em um dos trechos mais conhecidos do litoral Brasileiro. \nPara mais informações\, clique aqui!
URL:https://paddlenews.com.br/calendariosdeeventos/desafio-do-leme-ao-pontal/
END:VEVENT
BEGIN:VEVENT
DTSTART;TZID=America/Sao_Paulo:20240218T080000
DTEND;TZID=America/Sao_Paulo:20240218T170000
DTSTAMP:20260423T114656
CREATED:20240104T122701Z
LAST-MODIFIED:20240104T122701Z
UID:11887-1708243200-1708275600@paddlenews.com.br
SUMMARY:Volta à Ilha do Combú 2024
DESCRIPTION:Volta à Ilha do Combú 2024\, competição tradicional de va’a em canoas individuais e em dupla\, nas modalidades V1\, OC1 e OC2\, Masculino e Feminino. 17 km no entorno da Ilha do Combú em Belém (PA). \n  \n\n\n  \n\n\n\n\n\n\n\n\n\n\nVer essa foto no Instagram\n\n\n\n\n\n\n\n\n\n\n\n\n\n\n\n\n\n\n\n\n\n\n  \nUma publicação compartilhada por Volta à Ilha do Combu (@voltaailhadocombu)
URL:https://paddlenews.com.br/calendariosdeeventos/volta-a-ilha-do-combu-2024/
END:VEVENT
BEGIN:VEVENT
DTSTART;TZID=America/Sao_Paulo:20240203T080000
DTEND;TZID=America/Sao_Paulo:20240203T170000
DTSTAMP:20260423T114656
CREATED:20240104T101717Z
LAST-MODIFIED:20240104T120911Z
UID:6948-1706947200-1706979600@paddlenews.com.br
SUMMARY:DESAFIO SALVADOR – MORRO DE SÃO PAULO 2022
DESCRIPTION:Competição de remada de 60 Km sem revezamento ou auxílio externo\, no verão da Bahia\, largando em frente ao Yacht Clube de Salvador a chegada em Morro de São Paulo\, na Ilha de Tinharé\, um dos mais badalados destinos turísticos do país. \nMais informações em breve. \n \n 
URL:https://paddlenews.com.br/calendariosdeeventos/desafio-salvador-morro-de-sao-paulo-2022/
END:VEVENT
BEGIN:VEVENT
DTSTART;TZID=America/Sao_Paulo:20240128T080000
DTEND;TZID=America/Sao_Paulo:20240128T170000
DTSTAMP:20260423T114656
CREATED:20240104T122338Z
LAST-MODIFIED:20240104T122338Z
UID:11884-1706428800-1706461200@paddlenews.com.br
SUMMARY:6º Festival Brasileiro de Remada
DESCRIPTION:Modalidades: SUP Race\, Va’a\, Paddleboard\, Remada de Longboard e Canoagem Oceânica. \nMais informações em @rodrigo.dedeuspersonal.
URL:https://paddlenews.com.br/calendariosdeeventos/6o-festival-brasileiro-de-remada/
END:VEVENT
BEGIN:VEVENT
DTSTART;TZID=America/Sao_Paulo:20240127T080000
DTEND;TZID=America/Sao_Paulo:20240128T170000
DTSTAMP:20260423T114656
CREATED:20240104T122023Z
LAST-MODIFIED:20240104T122128Z
UID:11880-1706342400-1706461200@paddlenews.com.br
SUMMARY:Volta à Ilha da Gipóia 2024
DESCRIPTION:Volta à Ilha da Gipóia: competição de 25 km de remada no entorno da Ilha da Gipóia\, Angra dos reis (RJ). Modalidades V1\, V3 e surfski. \nCompetição será válida como primeira etapa da Copa Brasil de Surfski\, valendo classificação no ranking que garante vaga para o mundial de 2025. \n27 de janeiro serão as individuais: V1 e surfski. \n28 de janeiro serão as coletivas: V3 e surfski duplo. \nMais informações\, clique aqui!!
URL:https://paddlenews.com.br/calendariosdeeventos/11880/
END:VEVENT
BEGIN:VEVENT
DTSTART;TZID=America/Sao_Paulo:20240127T080000
DTEND;TZID=America/Sao_Paulo:20240128T170000
DTSTAMP:20260423T114656
CREATED:20240104T121748Z
LAST-MODIFIED:20240105T134700Z
UID:11877-1706342400-1706461200@paddlenews.com.br
SUMMARY:I Etapa do Campeonato Sergipano de Va'a e Stand up Paddle
DESCRIPTION:  \n \nPrimeira etapa do Circuito Sergipano de Va’a e Stand up paddle. \nClique aqui para mais informações! \nPara Fazer sua inscrição\, clique aqui!!
URL:https://paddlenews.com.br/calendariosdeeventos/i-etapa-do-campeonato-sergipano-de-vaa-e-stand-up-paddle/
END:VEVENT
BEGIN:VEVENT
DTSTART;TZID=America/Sao_Paulo:20240120T080000
DTEND;TZID=America/Sao_Paulo:20240120T170000
DTSTAMP:20260423T114656
CREATED:20240104T121231Z
LAST-MODIFIED:20240104T121231Z
UID:11875-1705737600-1705770000@paddlenews.com.br
SUMMARY:III Copa Eva'a
DESCRIPTION:Clique no link abaixo para ver mais informações sobre o evento. \nClique aqui para mais informações!!
URL:https://paddlenews.com.br/calendariosdeeventos/iii-copa-evaa/
END:VEVENT
END:VCALENDAR